BEGIN:VCALENDAR
VERSION:2.0
PRODID:-//Small World Miniature Club - ECPv6.15.20//NONSGML v1.0//EN
CALSCALE:GREGORIAN
METHOD:PUBLISH
X-WR-CALNAME:Small World Miniature Club
X-ORIGINAL-URL:https://phoenixminiatures.com
X-WR-CALDESC:Events for Small World Miniature Club
REFRESH-INTERVAL;VALUE=DURATION:PT1H
X-Robots-Tag:noindex
X-PUBLISHED-TTL:PT1H
BEGIN:VTIMEZONE
TZID:America/Phoenix
BEGIN:STANDARD
TZOFFSETFROM:-0700
TZOFFSETTO:-0700
TZNAME:MST
DTSTART:20250101T000000
END:STANDARD
END:VTIMEZONE
BEGIN:VEVENT
DTSTART;TZID=America/Phoenix:20260314T090000
DTEND;TZID=America/Phoenix:20260314T130000
DTSTAMP:20260420T052605
CREATED:20260217T035757Z
LAST-MODIFIED:20260314T043139Z
UID:1961-1773478800-1773493200@phoenixminiatures.com
SUMMARY:Monthly Meeting
DESCRIPTION:St Andrews Episcopal Church \n6300 W Camelback Rd \nGlendale\, AZ.  85301
URL:https://phoenixminiatures.com/event/monthly-meeting/
END:VEVENT
END:VCALENDAR